BEGIN:VCALENDAR
VERSION:2.0
PRODID:-//FacialartDentalForum.com - ECPv6.15.20//NONSGML v1.0//EN
CALSCALE:GREGORIAN
METHOD:PUBLISH
X-ORIGINAL-URL:https://www.facialartdentalforum.com
X-WR-CALDESC:Events for FacialartDentalForum.com
REFRESH-INTERVAL;VALUE=DURATION:PT1H
X-Robots-Tag:noindex
X-PUBLISHED-TTL:PT1H
BEGIN:VTIMEZONE
TZID:America/New_York
BEGIN:DAYLIGHT
TZOFFSETFROM:-0500
TZOFFSETTO:-0400
TZNAME:EDT
DTSTART:20160313T070000
END:DAYLIGHT
BEGIN:STANDARD
TZOFFSETFROM:-0400
TZOFFSETTO:-0500
TZNAME:EST
DTSTART:20161106T060000
END:STANDARD
BEGIN:DAYLIGHT
TZOFFSETFROM:-0500
TZOFFSETTO:-0400
TZNAME:EDT
DTSTART:20170312T070000
END:DAYLIGHT
BEGIN:STANDARD
TZOFFSETFROM:-0400
TZOFFSETTO:-0500
TZNAME:EST
DTSTART:20171105T060000
END:STANDARD
BEGIN:DAYLIGHT
TZOFFSETFROM:-0500
TZOFFSETTO:-0400
TZNAME:EDT
DTSTART:20180311T070000
END:DAYLIGHT
BEGIN:STANDARD
TZOFFSETFROM:-0400
TZOFFSETTO:-0500
TZNAME:EST
DTSTART:20181104T060000
END:STANDARD
END:VTIMEZONE
BEGIN:VEVENT
DTSTART;TZID=America/New_York:20171011T120000
DTEND;TZID=America/New_York:20171011T123000
DTSTAMP:20260419T121010
CREATED:20170926T163248Z
LAST-MODIFIED:20170926T163248Z
UID:26100-1507723200-1507725000@www.facialartdentalforum.com
SUMMARY:Management of Extraction Sites with Sinus Perforation
DESCRIPTION:During this free 30-minute narrowcast\, we will present diagnostics and treatment strategies for extraction sites in the posterior maxilla with sinus perforation.
URL:https://www.facialartdentalforum.com/event/management-extraction-sites-sinus-perforation/
LOCATION:Online
ATTACH;FMTTYPE=image/jpeg:https://www.facialartdentalforum.com/wp-content/uploads/2017/04/maxillary-sinus-perforation-hole-opening-after-tooth-extraction.jpeg
ORGANIZER;CN="Facialart Dental Forum":MAILTO:info@facialartdentalforum.com
END:VEVENT
END:VCALENDAR