BEGIN:VCALENDAR
VERSION:2.0
PRODID:-//FacialartDentalForum.com - ECPv6.15.20//NONSGML v1.0//EN
CALSCALE:GREGORIAN
METHOD:PUBLISH
X-ORIGINAL-URL:https://www.facialartdentalforum.com
X-WR-CALDESC:Events for FacialartDentalForum.com
REFRESH-INTERVAL;VALUE=DURATION:PT1H
X-Robots-Tag:noindex
X-PUBLISHED-TTL:PT1H
BEGIN:VTIMEZONE
TZID:America/New_York
BEGIN:DAYLIGHT
TZOFFSETFROM:-0500
TZOFFSETTO:-0400
TZNAME:EDT
DTSTART:20170312T070000
END:DAYLIGHT
BEGIN:STANDARD
TZOFFSETFROM:-0400
TZOFFSETTO:-0500
TZNAME:EST
DTSTART:20171105T060000
END:STANDARD
BEGIN:DAYLIGHT
TZOFFSETFROM:-0500
TZOFFSETTO:-0400
TZNAME:EDT
DTSTART:20180311T070000
END:DAYLIGHT
BEGIN:STANDARD
TZOFFSETFROM:-0400
TZOFFSETTO:-0500
TZNAME:EST
DTSTART:20181104T060000
END:STANDARD
BEGIN:DAYLIGHT
TZOFFSETFROM:-0500
TZOFFSETTO:-0400
TZNAME:EDT
DTSTART:20190310T070000
END:DAYLIGHT
BEGIN:STANDARD
TZOFFSETFROM:-0400
TZOFFSETTO:-0500
TZNAME:EST
DTSTART:20191103T060000
END:STANDARD
END:VTIMEZONE
BEGIN:VEVENT
DTSTART;TZID=America/New_York:20180927T180000
DTEND;TZID=America/New_York:20180927T200000
DTSTAMP:20260417T023814
CREATED:20180818T041628Z
LAST-MODIFIED:20180818T041628Z
UID:27621-1538071200-1538078400@www.facialartdentalforum.com
SUMMARY:DC Forum- The Central Lateral Dilemma
DESCRIPTION:Replacement of missing central and lateral comes with unique challenges in achieving an aesthetic outcome. Bone and soft tissue deficiency along with availability of space can impact the treatment options: Type of bone grafting and soft tissue augmentation\, space management through orthodontics\, number of implants\, type of transitional prosthesis\, and approaches in both provisional and final restoration. In this debate-style presentation\, we will discuss the restorative\, surgical\, and orthodontic principles when managing missing central and lateral incisors.
URL:https://www.facialartdentalforum.com/event/dc-forum-the-central-lateral-dilemma/
LOCATION:The Forum\, 4825 Bethesda Avenue\, Suite 302\, Bethesda\, MD\, 20814\, United States
CATEGORIES:DC Forum- Doctors
ATTACH;FMTTYPE=image/jpeg:https://www.facialartdentalforum.com/wp-content/uploads/2018/08/dental-implants-missing-central-lateral-incisors-kazemi-oral-surgery.jpg
ORGANIZER;CN="Facialart Dental Forum":MAILTO:info@facialartdentalforum.com
END:VEVENT
END:VCALENDAR