BEGIN:VCALENDAR
VERSION:2.0
PRODID:-//FacialartDentalForum.com - ECPv6.15.20//NONSGML v1.0//EN
CALSCALE:GREGORIAN
METHOD:PUBLISH
X-WR-CALNAME:FacialartDentalForum.com
X-ORIGINAL-URL:https://www.facialartdentalforum.com
X-WR-CALDESC:Events for FacialartDentalForum.com
REFRESH-INTERVAL;VALUE=DURATION:PT1H
X-Robots-Tag:noindex
X-PUBLISHED-TTL:PT1H
BEGIN:VTIMEZONE
TZID:America/New_York
BEGIN:DAYLIGHT
TZOFFSETFROM:-0500
TZOFFSETTO:-0400
TZNAME:EDT
DTSTART:20180311T070000
END:DAYLIGHT
BEGIN:STANDARD
TZOFFSETFROM:-0400
TZOFFSETTO:-0500
TZNAME:EST
DTSTART:20181104T060000
END:STANDARD
BEGIN:DAYLIGHT
TZOFFSETFROM:-0500
TZOFFSETTO:-0400
TZNAME:EDT
DTSTART:20190310T070000
END:DAYLIGHT
BEGIN:STANDARD
TZOFFSETFROM:-0400
TZOFFSETTO:-0500
TZNAME:EST
DTSTART:20191103T060000
END:STANDARD
BEGIN:DAYLIGHT
TZOFFSETFROM:-0500
TZOFFSETTO:-0400
TZNAME:EDT
DTSTART:20200308T070000
END:DAYLIGHT
BEGIN:STANDARD
TZOFFSETFROM:-0400
TZOFFSETTO:-0500
TZNAME:EST
DTSTART:20201101T060000
END:STANDARD
END:VTIMEZONE
BEGIN:VEVENT
DTSTART;TZID=America/New_York:20191116T090000
DTEND;TZID=America/New_York:20191116T150000
DTSTAMP:20260422T045035
CREATED:20190817T163721Z
LAST-MODIFIED:20190817T163721Z
UID:29754-1573894800-1573916400@www.facialartdentalforum.com
SUMMARY:Innovations in Implant Dentistry & Tissue Management Your Patients Would Want to Know
DESCRIPTION:What do ‘pink-free’\, ‘PETology’\, ‘Digital Implant Dentistry’\, ‘Soft Tissue Training’\, and ‘peri-implantitis management’ have in common? Fresh and innovative perspectives in dentistry your patients would want to know. We are delighted to invite you to a day-program discussing 5 hot topics in dentistry: \n\nNo-Bone-Cut-Down Pink-Free Full-Arch Treatments\nPETology\nTotal Digital Workflow in Implant Dentistry\nTraining The Soft Tissue\nManaging Peri-implantitis\n\nParticipants Will Learn:\n\nHow to deliver full arch treatments without bone / tissue reduction delivering pink-free restorations\nPreservation of tissue through partial extraction therapy (PET)\nLearn about advances in digital workflow in surgical and restorative treatments\nHow to train soft tissue for ideal emergence phenomenon and restoration aesthetics and function\nAdvances in prevention and management of peri-implantitis
URL:https://www.facialartdentalforum.com/event/innovations-in-implant-dentistry-tissue-management-your-patients-would-want-to-know/
LOCATION:The Forum\, 4825 Bethesda Avenue\, Suite 302\, Bethesda\, MD\, 20814\, United States
ATTACH;FMTTYPE=image/jpeg:https://www.facialartdentalforum.com/wp-content/uploads/2019/08/full-arch-multiple-implants-for-bridge-kazemi-oral-surgery-bethesda-washington-dc-1.jpg
END:VEVENT
END:VCALENDAR