BEGIN:VCALENDAR
VERSION:2.0
PRODID:-//FacialartDentalForum.com - ECPv6.15.20//NONSGML v1.0//EN
CALSCALE:GREGORIAN
METHOD:PUBLISH
X-ORIGINAL-URL:https://www.facialartdentalforum.com
X-WR-CALDESC:Events for FacialartDentalForum.com
REFRESH-INTERVAL;VALUE=DURATION:PT1H
X-Robots-Tag:noindex
X-PUBLISHED-TTL:PT1H
BEGIN:VTIMEZONE
TZID:America/New_York
BEGIN:DAYLIGHT
TZOFFSETFROM:-0500
TZOFFSETTO:-0400
TZNAME:EDT
DTSTART:20190310T070000
END:DAYLIGHT
BEGIN:STANDARD
TZOFFSETFROM:-0400
TZOFFSETTO:-0500
TZNAME:EST
DTSTART:20191103T060000
END:STANDARD
BEGIN:DAYLIGHT
TZOFFSETFROM:-0500
TZOFFSETTO:-0400
TZNAME:EDT
DTSTART:20200308T070000
END:DAYLIGHT
BEGIN:STANDARD
TZOFFSETFROM:-0400
TZOFFSETTO:-0500
TZNAME:EST
DTSTART:20201101T060000
END:STANDARD
BEGIN:DAYLIGHT
TZOFFSETFROM:-0500
TZOFFSETTO:-0400
TZNAME:EDT
DTSTART:20210314T070000
END:DAYLIGHT
BEGIN:STANDARD
TZOFFSETFROM:-0400
TZOFFSETTO:-0500
TZNAME:EST
DTSTART:20211107T060000
END:STANDARD
END:VTIMEZONE
BEGIN:VEVENT
DTSTART;TZID=America/New_York:20200608T130000
DTEND;TZID=America/New_York:20200608T150000
DTSTAMP:20260422T080008
CREATED:20200525T144242Z
LAST-MODIFIED:20200525T144242Z
UID:30684-1591621200-1591628400@www.facialartdentalforum.com
SUMMARY:Everyday Dentistry Full Digital Workflow
DESCRIPTION:Our guest speaker\, Miladinov Milos will be joining us live from Romania. He is the founder of Dental Pro Master Laboratory. He will discuss the integration of full digital workflow for everyday dentistry. He will present the basic digital workflow\, intra-oral and facial scanning\, equipment recommendations\, material choices\, and several clinical cases.
URL:https://www.facialartdentalforum.com/event/everyday-dentistry-full-digital-workflow/
LOCATION:Online
ATTACH;FMTTYPE=image/jpeg:https://www.facialartdentalforum.com/wp-content/uploads/2020/05/miladinov-milos-full-digital-workflow.jpg
ORGANIZER;CN="Facialart Dental Forum":MAILTO:info@facialartdentalforum.com
END:VEVENT
END:VCALENDAR