BEGIN:VCALENDAR
VERSION:2.0
PRODID:-//FacialartDentalForum.com - ECPv6.15.20//NONSGML v1.0//EN
CALSCALE:GREGORIAN
METHOD:PUBLISH
X-WR-CALNAME:FacialartDentalForum.com
X-ORIGINAL-URL:https://www.facialartdentalforum.com
X-WR-CALDESC:Events for FacialartDentalForum.com
REFRESH-INTERVAL;VALUE=DURATION:PT1H
X-Robots-Tag:noindex
X-PUBLISHED-TTL:PT1H
BEGIN:VTIMEZONE
TZID:America/New_York
BEGIN:DAYLIGHT
TZOFFSETFROM:-0500
TZOFFSETTO:-0400
TZNAME:EDT
DTSTART:20200308T070000
END:DAYLIGHT
BEGIN:STANDARD
TZOFFSETFROM:-0400
TZOFFSETTO:-0500
TZNAME:EST
DTSTART:20201101T060000
END:STANDARD
BEGIN:DAYLIGHT
TZOFFSETFROM:-0500
TZOFFSETTO:-0400
TZNAME:EDT
DTSTART:20210314T070000
END:DAYLIGHT
BEGIN:STANDARD
TZOFFSETFROM:-0400
TZOFFSETTO:-0500
TZNAME:EST
DTSTART:20211107T060000
END:STANDARD
BEGIN:DAYLIGHT
TZOFFSETFROM:-0500
TZOFFSETTO:-0400
TZNAME:EDT
DTSTART:20220313T070000
END:DAYLIGHT
BEGIN:STANDARD
TZOFFSETFROM:-0400
TZOFFSETTO:-0500
TZNAME:EST
DTSTART:20221106T060000
END:STANDARD
END:VTIMEZONE
BEGIN:VEVENT
DTSTART;TZID=America/New_York:20210914T180000
DTEND;TZID=America/New_York:20210914T200000
DTSTAMP:20260419T171036
CREATED:20210725T133906Z
LAST-MODIFIED:20210725T134128Z
UID:31236-1631642400-1631649600@www.facialartdentalforum.com
SUMMARY:DC Forum: Prevention and Management of peri-implant mucositis and Peri-Implantitis
DESCRIPTION:In this forum\, Dr. Kazemi will present known contributing factors to common inflammatory conditions around dental implants and discuss prevention and management strategies for predictable outcome.
URL:https://www.facialartdentalforum.com/event/prevention-and-management-of-peri-implant-mucositis-and-peri-implantitis/
LOCATION:The Forum\, 4825 Bethesda Avenue\, Suite 302\, Bethesda\, MD\, 20814\, United States
ATTACH;FMTTYPE=image/jpeg:https://www.facialartdentalforum.com/wp-content/uploads/2021/07/peri-implantitis-peri-implant-mucositis-dental-implant-complications-kazemi-oral-surgery.001.jpeg
ORGANIZER;CN="Facialart Dental Forum":MAILTO:info@facialartdentalforum.com
END:VEVENT
END:VCALENDAR