BEGIN:VCALENDAR
VERSION:2.0
PRODID:-//FacialartDentalForum.com - ECPv6.15.20//NONSGML v1.0//EN
CALSCALE:GREGORIAN
METHOD:PUBLISH
X-WR-CALNAME:FacialartDentalForum.com
X-ORIGINAL-URL:https://www.facialartdentalforum.com
X-WR-CALDESC:Events for FacialartDentalForum.com
REFRESH-INTERVAL;VALUE=DURATION:PT1H
X-Robots-Tag:noindex
X-PUBLISHED-TTL:PT1H
BEGIN:VTIMEZONE
TZID:America/New_York
BEGIN:DAYLIGHT
TZOFFSETFROM:-0500
TZOFFSETTO:-0400
TZNAME:EDT
DTSTART:20200308T070000
END:DAYLIGHT
BEGIN:STANDARD
TZOFFSETFROM:-0400
TZOFFSETTO:-0500
TZNAME:EST
DTSTART:20201101T060000
END:STANDARD
BEGIN:DAYLIGHT
TZOFFSETFROM:-0500
TZOFFSETTO:-0400
TZNAME:EDT
DTSTART:20210314T070000
END:DAYLIGHT
BEGIN:STANDARD
TZOFFSETFROM:-0400
TZOFFSETTO:-0500
TZNAME:EST
DTSTART:20211107T060000
END:STANDARD
BEGIN:DAYLIGHT
TZOFFSETFROM:-0500
TZOFFSETTO:-0400
TZNAME:EDT
DTSTART:20220313T070000
END:DAYLIGHT
BEGIN:STANDARD
TZOFFSETFROM:-0400
TZOFFSETTO:-0500
TZNAME:EST
DTSTART:20221106T060000
END:STANDARD
END:VTIMEZONE
BEGIN:VEVENT
DTSTART;TZID=America/New_York:20211027T180000
DTEND;TZID=America/New_York:20211027T193000
DTSTAMP:20260421T093423
CREATED:20210927T140513Z
LAST-MODIFIED:20210927T140513Z
UID:31287-1635357600-1635363000@www.facialartdentalforum.com
SUMMARY:Full Arch Treatments- A Forum for Team Collaborative
DESCRIPTION:Do you want to start offering full arch implant treatments and don’t know where to start? Have you already done some cases but found the process to be too hard\, long\, or chaotic? Or have experienced complications that discouraged you from engaging in more treatments? \nMany of the restorative dentists we talk to have expressed one or more of these challenges. They have patients who are candidates for full arch therapy but do not have a protocol or guidance for proper patient education\, treatment acceptance\, and the actual treatments. \nIf you want to overcome such challenges\, deliver remarkable full-arch dentistry\, and earn 10-15 k profit for spending less than 2 hours of your time\, this program will give you the start you need. \nFully edentulous patients and those with guarded dentitions are looking for treatments to help them get back their function and aesthetics. And they are looking for dentists who can provide such services with ease\, convenience\, and manageable cost. This is the reason why corporate implant centers like ClearChoice and others are attracting your patients to provide services that you can easily deliver yourself with little invested time and effort with maximal return. \nThrough full digital work-flow and collaboration with labs\, we have created a complete full arch treatment process that will provide remarkable results for your patients in an efficient and profitable process for you. \nWe would like to invite you to an evening forum on Wednesday October 27\, 2021 to learn about our unique full-arch treatment protocol that delivers maximal treatment acceptance and ‘4-dimensional’ results while minimizing chaos\, mis-communication\, and complications. \nHere are some of the topics we’ll discuss during this complimentary program: \n\nHow to recognize full-arch patients in your current patient base.\nSimple strategies to get patients excited about possibilities and take the next steps\nHow to educate your patients about treatment options with no fees and no appointments.\nStrategies for effective treatment acceptance\nDigital work-flow in full arch treatments for optimal precision and efficiency.\nImmediate / delayed load protocols for full arch treatments and staging protocols\nLaboratory and restorative steps\nFee structures and payment plans to make treatments affordable for every patient\n4-dimensional dentistry and how it will grow your practice with no costly advertising.\n\nYou probably have dozens of patients right now who want full arch treatments but simply do not know about it or how it works. We’ll discuss how to recognize such patients and how to get them engaged into treatments. \nOur full arch protocol is the result of processes developed over the last 10 years and has proved to be a highly effective and successful model. And now we want to share our experiences with you. Join us and see if our program is a fit for your patients and practice.. \nDuring this 2-hour complimentary seminar\, we will also give you a tour of the smile design studio\, our digital laboratory\, and dental implant center where all treatments are provided. We will provide you with the knowledge and tools to complete full-arch restorative treatment along with collaboration from our team lab right at your own office. You will also meet the team from our lab. \nThis program is limited to 12 participants who will also be enrolled in our FREE continuum courses to gain deeper knowledge for managing more advanced cases. \nSign up below to reserve your seat and take the first steps in elevating your practice to new heights. If you have any questions\, please feel free to contact me anytime.
URL:https://www.facialartdentalforum.com/event/full-arch-treatments-a-forum-for-team-collaborative/
LOCATION:The Forum\, 4825 Bethesda Avenue\, Suite 302\, Bethesda\, MD\, 20814\, United States
ATTACH;FMTTYPE=image/jpeg:https://www.facialartdentalforum.com/wp-content/uploads/2019/03/kazemi-speaker-full-arch-dental-implants.jpg
END:VEVENT
END:VCALENDAR